BEGIN:VCALENDAR
VERSION:2.0
PRODID:SchoolNow
CALSCALE:GREGORIAN
BEGIN:VEVENT
UID:622e59c6-c579-11f0-b554-0a58a9feac02
DTSTAMP:20251216T154557Z
SUMMARY:Girls Soccer vs Barbe (H)
LOCATION:JV @ 5:30/ V @ 7
URL;VALUE=URI:https://www.lpssonline.com/schools/acadiana/calendar/8803887/
 girls-soccer-vs-barbe-h
DTSTART:20260108T233000Z
DTEND:20260109T023000Z
END:VEVENT
END:VCALENDAR
