BEGIN:VCALENDAR
VERSION:2.0
PRODID:SchoolNow
CALSCALE:GREGORIAN
BEGIN:VEVENT
UID:622e5bf6-c579-11f0-86d9-0a58a9feac02
DTSTAMP:20251216T154557Z
SUMMARY:Girls Soccer @ Walker
LOCATION:Varsity only
URL;VALUE=URI:https://www.lpssonline.com/schools/acadiana/calendar/8803888/
 girls-soccer-walker
DTSTART:20251216T000000Z
DTEND:20251216T013000Z
END:VEVENT
END:VCALENDAR
