BEGIN:VCALENDAR
VERSION:2.0
PRODID:SchoolNow
CALSCALE:GREGORIAN
BEGIN:VEVENT
UID:622e5e94-c579-11f0-94b6-0a58a9feac02
DTSTAMP:20251216T154556Z
SUMMARY:Girls Soccer @ Livonia
LOCATION:Varsity only
URL;VALUE=URI:https://www.lpssonline.com/schools/acadiana/calendar/8803889/
 girls-soccer-livonia
DTSTART:20260120T003000Z
DTEND:20260120T013000Z
END:VEVENT
END:VCALENDAR
