BEGIN:VCALENDAR
VERSION:2.0
PRODID:SchoolNow
CALSCALE:GREGORIAN
BEGIN:VEVENT
UID:622e606a-c579-11f0-a143-0a58a9feac02
DTSTAMP:20251216T154556Z
SUMMARY:Boys Soccer @ EIL
URL;VALUE=URI:https://www.lpssonline.com/schools/acadiana/calendar/8803890/
 boys-soccer-eil
DTSTART;VALUE=DATE:20260103
DTEND;VALUE=DATE:20260104
END:VEVENT
END:VCALENDAR
