BEGIN:VCALENDAR
VERSION:2.0
PRODID:SchoolNow
CALSCALE:GREGORIAN
BEGIN:VEVENT
UID:622e62b8-c579-11f0-9c1c-0a58a9feac02
DTSTAMP:20251216T154556Z
SUMMARY:Girls  Soccer @ David Thibodeaux
LOCATION:JV @ 5:30/ V @ 7:00
URL;VALUE=URI:https://www.lpssonline.com/schools/acadiana/calendar/8803891/
 girls-soccer-david-thibodeaux
DTSTART:20251205T233000Z
DTEND:20251206T023000Z
END:VEVENT
END:VCALENDAR
