BEGIN:VCALENDAR
VERSION:2.0
PRODID:SchoolNow
CALSCALE:GREGORIAN
BEGIN:VEVENT
UID:622e6556-c579-11f0-8116-0a58a9feac02
DTSTAMP:20251216T154557Z
SUMMARY:Boys Soccer @ EIL
URL;VALUE=URI:https://www.lpssonline.com/schools/acadiana/calendar/8803892/
 boys-soccer-eil
DTSTART;VALUE=DATE:20260104
DTEND;VALUE=DATE:20260105
END:VEVENT
END:VCALENDAR
