BEGIN:VCALENDAR
VERSION:2.0
PRODID:SchoolNow
CALSCALE:GREGORIAN
BEGIN:VEVENT
UID:622e675e-c579-11f0-8986-0a58a9feac02
DTSTAMP:20251216T154557Z
SUMMARY:Girls Soccer vs AJ Ellender (H) Kelly
LOCATION:V@ 5:00/ JV@6:30
URL;VALUE=URI:https://www.lpssonline.com/schools/acadiana/calendar/8803893/
 girls-soccer-vs-aj-ellender-h-kelly
DTSTART:20251212T230000Z
DTEND:20251213T020000Z
END:VEVENT
END:VCALENDAR
