BEGIN:VCALENDAR
VERSION:2.0
PRODID:SchoolNow
CALSCALE:GREGORIAN
BEGIN:VEVENT
UID:622e6920-c579-11f0-85db-0a58a9feac02
DTSTAMP:20251216T154557Z
SUMMARY:Girls Soccer @ Lafayette
LOCATION:V @ 5:30/ JV @ 6:30
URL;VALUE=URI:https://www.lpssonline.com/schools/acadiana/calendar/8803894/
 girls-soccer-lafayette
DTSTART:20251219T230000Z
DTEND:20251220T020000Z
END:VEVENT
END:VCALENDAR
