BEGIN:VCALENDAR
VERSION:2.0
PRODID:SchoolNow
CALSCALE:GREGORIAN
BEGIN:VEVENT
UID:623b1260-c579-11f0-8364-0a58a9feac02
DTSTAMP:20251216T154557Z
SUMMARY:Girls Soccer vs Comeaux(H)
LOCATION:V@ 7:00
URL;VALUE=URI:https://www.lpssonline.com/schools/acadiana/calendar/8803896/
 girls-soccer-vs-comeaux-h
DTSTART:20251211T233000Z
DTEND:20251212T023000Z
END:VEVENT
END:VCALENDAR
