BEGIN:VCALENDAR
VERSION:2.0
PRODID:SchoolNow
CALSCALE:GREGORIAN
BEGIN:VEVENT
UID:623b15c6-c579-11f0-986c-0a58a9feac02
DTSTAMP:20251216T154557Z
SUMMARY:Girls Soccer @ Erath
LOCATION:Varsity
URL;VALUE=URI:https://www.lpssonline.com/schools/acadiana/calendar/8803897/
 girls-soccer-erath
DTSTART:20251210T000000Z
DTEND:20251210T010000Z
END:VEVENT
END:VCALENDAR
