BEGIN:VCALENDAR
VERSION:2.0
PRODID:SchoolNow
CALSCALE:GREGORIAN
BEGIN:VEVENT
UID:623b1a80-c579-11f0-9f89-0a58a9feac02
DTSTAMP:20251216T154556Z
SUMMARY:Girls Soccer @ Ascension
LOCATION:Varsity only
URL;VALUE=URI:https://www.lpssonline.com/schools/acadiana/calendar/8803898/
 girls-soccer-ascension
DTSTART:20260107T000000Z
DTEND:20260107T013000Z
END:VEVENT
END:VCALENDAR
