BEGIN:VCALENDAR
VERSION:2.0
PRODID:SchoolNow
CALSCALE:GREGORIAN
BEGIN:VEVENT
UID:623b1c9c-c579-11f0-8fbe-0a58a9feac02
DTSTAMP:20251216T154556Z
SUMMARY:Girls Soccer vs Kaplan (H)
LOCATION:Varsity only
URL;VALUE=URI:https://www.lpssonline.com/schools/acadiana/calendar/8803899/
 girls-soccer-vs-kaplan-h
DTSTART:20260122T000000Z
DTEND:20260122T010000Z
END:VEVENT
END:VCALENDAR
