BEGIN:VCALENDAR
VERSION:2.0
PRODID:SchoolNow
CALSCALE:GREGORIAN
BEGIN:VEVENT
UID:623b1ee0-c579-11f0-a175-0a58a9feac02
DTSTAMP:20251216T154556Z
SUMMARY:Boys Soccer @ COPA
URL;VALUE=URI:https://www.lpssonline.com/schools/acadiana/calendar/8803900/
 boys-soccer-copa
DTSTART;VALUE=DATE:20251219
DTEND;VALUE=DATE:20251220
END:VEVENT
END:VCALENDAR
