BEGIN:VCALENDAR
VERSION:2.0
PRODID:SchoolNow
CALSCALE:GREGORIAN
BEGIN:VEVENT
UID:dfe5312c-cfd4-11f0-a54f-0affddf38b41
DTSTAMP:20251216T154556Z
SUMMARY:Wrestling - Acadiana High Invitational
LOCATION:Acadiana High Boys Gym
URL;VALUE=URI:https://www.lpssonline.com/schools/acadiana/calendar/8816331/
 wrestling-acadiana-high-invitational
DTSTART:20251206T130000Z
DTEND:20251206T230000Z
END:VEVENT
END:VCALENDAR
