BEGIN:VCALENDAR
VERSION:2.0
PRODID:SchoolNow
CALSCALE:GREGORIAN
BEGIN:VEVENT
UID:dfe53686-cfd4-11f0-8ced-0affddf38b41
DTSTAMP:20251216T154557Z
SUMMARY:Wrestling Senior Night
URL;VALUE=URI:https://www.lpssonline.com/schools/acadiana/calendar/8816332/
 wrestling-senior-night
DTSTART:20260121T230000Z
DTEND:20260122T020000Z
END:VEVENT
END:VCALENDAR
