BEGIN:VCALENDAR
VERSION:2.0
PRODID:SchoolNow
CALSCALE:GREGORIAN
BEGIN:VEVENT
UID:d998d096-d06d-11f0-9ded-0a58a9feac02
DTSTAMP:20251216T154557Z
SUMMARY:NHS Christmas Social
LOCATION:Cafeteria
URL;VALUE=URI:https://www.lpssonline.com/schools/acadiana/calendar/8816785/
 nhs-christmas-social
DTSTART:20251217T140000Z
DTEND:20251217T143000Z
END:VEVENT
END:VCALENDAR
