BEGIN:VCALENDAR
VERSION:2.0
PRODID:SchoolNow
CALSCALE:GREGORIAN
BEGIN:VEVENT
UID:a048067c-d469-11f0-9567-0a58a9feac02
DTSTAMP:20251216T154557Z
SUMMARY:AOB Clay Shoot
URL;VALUE=URI:https://www.lpssonline.com/schools/acadiana/calendar/8820027/
 aob-clay-shoot
DTSTART:20260808T130000Z
DTEND:20260808T210000Z
END:VEVENT
END:VCALENDAR
