BEGIN:VCALENDAR
VERSION:2.0
PRODID:SchoolNow
CALSCALE:GREGORIAN
BEGIN:VEVENT
UID:a0480c6c-d469-11f0-ba29-0a58a9feac02
DTSTAMP:20251216T154556Z
SUMMARY:Envision Job Fair - AHS/AOB
LOCATION:Boys Gym
URL;VALUE=URI:https://www.lpssonline.com/schools/acadiana/calendar/8820028/
 envision-job-fair-ahs-aob
DTSTART:20260402T120000Z
DTEND:20260402T190000Z
END:VEVENT
END:VCALENDAR
