BEGIN:VCALENDAR
VERSION:2.0
PRODID:SchoolNow
CALSCALE:GREGORIAN
BEGIN:VEVENT
UID:7f620b68-d6cd-11f0-b52c-0a58a9feac02
DTSTAMP:20251216T154557Z
SUMMARY:Boys Soccer @ Southside
URL;VALUE=URI:https://www.lpssonline.com/schools/acadiana/calendar/8822321/
 boys-soccer-southside
DTSTART:20260109T233000Z
DTEND:20260110T020000Z
END:VEVENT
END:VCALENDAR
