BEGIN:VCALENDAR
VERSION:2.0
PRODID:SchoolNow
CALSCALE:GREGORIAN
BEGIN:VEVENT
UID:7f621072-d6cd-11f0-9d6e-0a58a9feac02
DTSTAMP:20251216T154557Z
SUMMARY:Wrestling @ Greg Lavergne Parish Tournament
LOCATION:Carencro High
URL;VALUE=URI:https://www.lpssonline.com/schools/acadiana/calendar/8822322/
 wrestling-greg-lavergne-parish-tournament
DTSTART;VALUE=DATE:20260103
DTEND;VALUE=DATE:20260104
END:VEVENT
END:VCALENDAR
