BEGIN:VCALENDAR
VERSION:2.0
PRODID:SchoolNow
CALSCALE:GREGORIAN
BEGIN:VEVENT
UID:7f6213e2-d6cd-11f0-85d2-0a58a9feac02
DTSTAMP:20251216T154556Z
SUMMARY:Boys  Soccer vs Sulphur (H)
URL;VALUE=URI:https://www.lpssonline.com/schools/acadiana/calendar/8822323/
 boys-soccer-vs-sulphur-h
DTSTART:20260116T233000Z
DTEND:20260117T020000Z
END:VEVENT
END:VCALENDAR
