BEGIN:VCALENDAR
VERSION:2.0
PRODID:SchoolNow
CALSCALE:GREGORIAN
BEGIN:VEVENT
UID:7f621536-d6cd-11f0-b49c-0a58a9feac02
DTSTAMP:20251216T154556Z
SUMMARY:Girls Basketball @ Alexandria Tournament
URL;VALUE=URI:https://www.lpssonline.com/schools/acadiana/calendar/8822324/
 girls-basketball-alexandria-tournament
DTSTART;VALUE=DATE:20251212
DTEND;VALUE=DATE:20251213
END:VEVENT
END:VCALENDAR
