BEGIN:VCALENDAR
VERSION:2.0
PRODID:SchoolNow
CALSCALE:GREGORIAN
BEGIN:VEVENT
UID:7f621644-d6cd-11f0-9f34-0a58a9feac02
DTSTAMP:20251216T154557Z
SUMMARY:Wrestling @ Jacob McMillian Invitational
LOCATION:Comeaux High School
URL;VALUE=URI:https://www.lpssonline.com/schools/acadiana/calendar/8822325/
 wrestling-jacob-mcmillian-invitational
DTSTART:20251213T233000Z
DTEND:20251214T020000Z
END:VEVENT
END:VCALENDAR
