BEGIN:VCALENDAR
VERSION:2.0
PRODID:SchoolNow
CALSCALE:GREGORIAN
BEGIN:VEVENT
UID:7f621842-d6cd-11f0-9e16-0a58a9feac02
DTSTAMP:20251216T154557Z
SUMMARY:Boys Soccer vs Lafayette
URL;VALUE=URI:https://www.lpssonline.com/schools/acadiana/calendar/8822326/
 boys-soccer-vs-lafayette
DTSTART:20260123T233000Z
DTEND:20260124T020000Z
END:VEVENT
END:VCALENDAR
