BEGIN:VCALENDAR
VERSION:2.0
PRODID:SchoolNow
CALSCALE:GREGORIAN
BEGIN:VEVENT
UID:7f62195a-d6cd-11f0-bba0-0a58a9feac02
DTSTAMP:20251216T154556Z
SUMMARY:Boys Basketball @ Southside Tourney
URL;VALUE=URI:https://www.lpssonline.com/schools/acadiana/calendar/8822327/
 boys-basketball-southside-tourney
DTSTART;VALUE=DATE:20260103
DTEND;VALUE=DATE:20260104
END:VEVENT
END:VCALENDAR
