BEGIN:VCALENDAR
VERSION:2.0
PRODID:SchoolNow
CALSCALE:GREGORIAN
BEGIN:VEVENT
UID:7fd669b8-d6cd-11f0-9fad-0a58a9feac02
DTSTAMP:20251216T154557Z
SUMMARY:Girls Basketball @ Vidalia
URL;VALUE=URI:https://www.lpssonline.com/schools/acadiana/calendar/8822328/
 girls-basketball-vidalia
DTSTART:20260103T190000Z
DTEND:20260103T210000Z
END:VEVENT
END:VCALENDAR
