BEGIN:VCALENDAR
VERSION:2.0
PRODID:SchoolNow
CALSCALE:GREGORIAN
BEGIN:VEVENT
UID:7fd66ecc-d6cd-11f0-8bbb-0a58a9feac02
DTSTAMP:20251216T154557Z
SUMMARY:Rams for Christ
LOCATION:Cafeteria
URL;VALUE=URI:https://www.lpssonline.com/schools/acadiana/calendar/8822329/
 rams-for-christ
DTSTART:20260206T140000Z
DTEND:20260206T143000Z
END:VEVENT
END:VCALENDAR
