BEGIN:VCALENDAR
VERSION:2.0
PRODID:SchoolNow
CALSCALE:GREGORIAN
BEGIN:VEVENT
UID:7fd6703e-d6cd-11f0-a0b6-0a58a9feac02
DTSTAMP:20251216T154556Z
SUMMARY:Rams for Christ
LOCATION:Cafeteria
URL;VALUE=URI:https://www.lpssonline.com/schools/acadiana/calendar/8822330/
 rams-for-christ
DTSTART:20251216T203000Z
DTEND:20251216T213000Z
END:VEVENT
END:VCALENDAR
