BEGIN:VCALENDAR
VERSION:2.0
PRODID:SchoolNow
CALSCALE:GREGORIAN
BEGIN:VEVENT
UID:7fd67304-d6cd-11f0-b57f-0a58a9feac02
DTSTAMP:20251216T154557Z
SUMMARY:Boys Basketball @ D. Thibodeaux Tourney
URL;VALUE=URI:https://www.lpssonline.com/schools/acadiana/calendar/8822331/
 boys-basketball-d-thibodeaux-tourney
DTSTART;VALUE=DATE:20260110
DTEND;VALUE=DATE:20260111
END:VEVENT
END:VCALENDAR
