BEGIN:VCALENDAR
VERSION:2.0
PRODID:SchoolNow
CALSCALE:GREGORIAN
BEGIN:VEVENT
UID:7fd674bc-d6cd-11f0-9e74-0a58a9feac02
DTSTAMP:20251216T154557Z
SUMMARY:Wrestling @ State Dual Tournament
LOCATION:New Orleans
URL;VALUE=URI:https://www.lpssonline.com/schools/acadiana/calendar/8822332/
 wrestling-state-dual-tournament
DTSTART;VALUE=DATE:20260104
DTEND;VALUE=DATE:20260105
END:VEVENT
END:VCALENDAR
