BEGIN:VCALENDAR
VERSION:2.0
PRODID:SchoolNow
CALSCALE:GREGORIAN
BEGIN:VEVENT
UID:7fd6767e-d6cd-11f0-b397-0a58a9feac02
DTSTAMP:20251216T154557Z
SUMMARY:Wrestling @ Greg Lavergne Parish Tournament
LOCATION:Carencro High
URL;VALUE=URI:https://www.lpssonline.com/schools/acadiana/calendar/8822333/
 wrestling-greg-lavergne-parish-tournament
DTSTART;VALUE=DATE:20260104
DTEND;VALUE=DATE:20260105
END:VEVENT
END:VCALENDAR
