BEGIN:VCALENDAR
VERSION:2.0
PRODID:SchoolNow
CALSCALE:GREGORIAN
BEGIN:VEVENT
UID:7fd67796-d6cd-11f0-9c21-0a58a9feac02
DTSTAMP:20251216T154556Z
SUMMARY:Girls Basketball - Acadiana High Tournament
URL;VALUE=URI:https://www.lpssonline.com/schools/acadiana/calendar/8822334/
 girls-basketball-acadiana-high-tournament
DTSTART;VALUE=DATE:20251220
DTEND;VALUE=DATE:20251221
END:VEVENT
END:VCALENDAR
