BEGIN:VCALENDAR
VERSION:2.0
PRODID:SchoolNow
CALSCALE:GREGORIAN
BEGIN:VEVENT
UID:7fd67908-d6cd-11f0-8907-0a58a9feac02
DTSTAMP:20251216T154557Z
SUMMARY:Girls Basketball - Acadiana High Tournament
URL;VALUE=URI:https://www.lpssonline.com/schools/acadiana/calendar/8822335/
 girls-basketball-acadiana-high-tournament
DTSTART;VALUE=DATE:20251219
DTEND;VALUE=DATE:20251220
END:VEVENT
END:VCALENDAR
