BEGIN:VCALENDAR
VERSION:2.0
PRODID:SchoolNow
CALSCALE:GREGORIAN
BEGIN:VEVENT
UID:7fd67a52-d6cd-11f0-9068-0a58a9feac02
DTSTAMP:20251216T154557Z
SUMMARY:Rams for Christ
LOCATION:Cafeteria
URL;VALUE=URI:https://www.lpssonline.com/schools/acadiana/calendar/8822336/
 rams-for-christ
DTSTART:20260116T140000Z
DTEND:20260116T143000Z
END:VEVENT
END:VCALENDAR
