BEGIN:VCALENDAR
VERSION:2.0
PRODID:SchoolNow
CALSCALE:GREGORIAN
BEGIN:VEVENT
UID:7fd67b42-d6cd-11f0-a245-0a58a9feac02
DTSTAMP:20251216T154557Z
SUMMARY:Girls Basketball @ Alexandria Tournament
URL;VALUE=URI:https://www.lpssonline.com/schools/acadiana/calendar/8822337/
 girls-basketball-alexandria-tournament
DTSTART;VALUE=DATE:20251213
DTEND;VALUE=DATE:20251214
END:VEVENT
END:VCALENDAR
