BEGIN:VCALENDAR
VERSION:2.0
PRODID:SchoolNow
CALSCALE:GREGORIAN
BEGIN:VEVENT
UID:7fd67d7c-d6cd-11f0-a78a-0a58a9feac02
DTSTAMP:20251216T154556Z
SUMMARY:Wrestling @ Public School State Championship (Varsity and Girls)
LOCATION:Lamar Dixon Expo
URL;VALUE=URI:https://www.lpssonline.com/schools/acadiana/calendar/8822339/
 wrestling-public-school-state-championship-varsity-and-girls
DTSTART;VALUE=DATE:20251229
DTEND;VALUE=DATE:20251230
END:VEVENT
END:VCALENDAR
