BEGIN:VCALENDAR
VERSION:2.0
PRODID:SchoolNow
CALSCALE:GREGORIAN
BEGIN:VEVENT
UID:7fd67e94-d6cd-11f0-93d2-0a58a9feac02
DTSTAMP:20251216T154557Z
SUMMARY:Girls Wrestling  @ Prairieville Open
URL;VALUE=URI:https://www.lpssonline.com/schools/acadiana/calendar/8822340/
 girls-wrestling-prairieville-open
DTSTART;VALUE=DATE:20251220
DTEND;VALUE=DATE:20251221
END:VEVENT
END:VCALENDAR
