BEGIN:VCALENDAR
VERSION:2.0
PRODID:SchoolNow
CALSCALE:GREGORIAN
BEGIN:VEVENT
UID:7fd67ff2-d6cd-11f0-92e2-0a58a9feac02
DTSTAMP:20251216T154557Z
SUMMARY:Girls Basketball vs Barbe (Senior Night)
URL;VALUE=URI:https://www.lpssonline.com/schools/acadiana/calendar/8822341/
 girls-basketball-vs-barbe-senior-night
DTSTART:20260206T233000Z
DTEND:20260207T020000Z
END:VEVENT
END:VCALENDAR
