BEGIN:VCALENDAR
VERSION:2.0
PRODID:SchoolNow
CALSCALE:GREGORIAN
BEGIN:VEVENT
UID:7fd6815a-d6cd-11f0-a191-0a58a9feac02
DTSTAMP:20251216T154557Z
SUMMARY:Wrestling @ Tri-Meet Erath/North Vermilion
LOCATION:Erath High School
URL;VALUE=URI:https://www.lpssonline.com/schools/acadiana/calendar/8822342/
 wrestling-tri-meet-erath-north-vermilion
DTSTART:20251217T233000Z
DTEND:20251218T020000Z
END:VEVENT
END:VCALENDAR
