BEGIN:VCALENDAR
VERSION:2.0
PRODID:SchoolNow
CALSCALE:GREGORIAN
BEGIN:VEVENT
UID:7fd68308-d6cd-11f0-9ebd-0a58a9feac02
DTSTAMP:20251216T154557Z
SUMMARY:Wrestling District Tournament
LOCATION:Sulphur High School
URL;VALUE=URI:https://www.lpssonline.com/schools/acadiana/calendar/8822343/
 wrestling-district-tournament
DTSTART;VALUE=DATE:20251220
DTEND;VALUE=DATE:20251221
END:VEVENT
END:VCALENDAR
