BEGIN:VCALENDAR
VERSION:2.0
PRODID:SchoolNow
CALSCALE:GREGORIAN
BEGIN:VEVENT
UID:7fecbdda-d6cd-11f0-b552-0a58a9feac02
DTSTAMP:20251216T154556Z
SUMMARY:District 3 Honor Choir
LOCATION:Angelle Hall
URL;VALUE=URI:https://www.lpssonline.com/schools/acadiana/calendar/8822344/
 district-3-honor-choir
DTSTART:20260112T130000Z
DTEND:20260112T210000Z
END:VEVENT
END:VCALENDAR
