BEGIN:VCALENDAR
VERSION:2.0
PRODID:SchoolNow
CALSCALE:GREGORIAN
BEGIN:VEVENT
UID:7fecc1fe-d6cd-11f0-ab36-0a58a9feac02
DTSTAMP:20251216T154557Z
SUMMARY:Boys Soccer @ Barbe
URL;VALUE=URI:https://www.lpssonline.com/schools/acadiana/calendar/8822345/
 boys-soccer-barbe
DTSTART:20260113T233000Z
DTEND:20260114T020000Z
END:VEVENT
END:VCALENDAR
