BEGIN:VCALENDAR
VERSION:2.0
PRODID:SchoolNow
CALSCALE:GREGORIAN
BEGIN:VEVENT
UID:7fecc370-d6cd-11f0-a410-0a58a9feac02
DTSTAMP:20251216T154557Z
SUMMARY:Wrestling @ Public School State Championship (Varsity and Girls)
LOCATION:Lamar Dixon Expo
URL;VALUE=URI:https://www.lpssonline.com/schools/acadiana/calendar/8822346/
 wrestling-public-school-state-championship-varsity-and-girls
DTSTART;VALUE=DATE:20251230
DTEND;VALUE=DATE:20251231
END:VEVENT
END:VCALENDAR
