BEGIN:VCALENDAR
VERSION:2.0
PRODID:SchoolNow
CALSCALE:GREGORIAN
BEGIN:VEVENT
UID:7fecc622-d6cd-11f0-b5ed-0a58a9feac02
DTSTAMP:20251216T154557Z
SUMMARY:Boys Soccer @ Zachary
URL;VALUE=URI:https://www.lpssonline.com/schools/acadiana/calendar/8822347/
 boys-soccer-zachary
DTSTART:20260128T000000Z
DTEND:20260128T023000Z
END:VEVENT
END:VCALENDAR
