BEGIN:VCALENDAR
VERSION:2.0
PRODID:SchoolNow
CALSCALE:GREGORIAN
BEGIN:VEVENT
UID:9579bc50-5f64-11ec-9073-02344199ac6f
DTSTAMP:20211217T181015Z
SUMMARY:Christmas Break
URL;VALUE=URI:https://www.lpssonline.com/schools/careercenter/calendar/2958
 816/christmas-break
DTSTART;VALUE=DATE:20211220
DTEND;VALUE=DATE:20220102
END:VEVENT
END:VCALENDAR
