BEGIN:VCALENDAR
VERSION:2.0
PRODID:SchoolNow
CALSCALE:GREGORIAN
BEGIN:VEVENT
UID:ab42e980-5f64-11ec-8c32-02344199ac6f
DTSTAMP:20211217T181051Z
SUMMARY:School In-service for Teachers (Students do not report.)
URL;VALUE=URI:https://www.lpssonline.com/schools/careercenter/calendar/2958
 817/school-in-service-for-teachers-students-do-not-report
DTSTART:20220103T181000Z
DTEND:20220103T191000Z
END:VEVENT
END:VCALENDAR
