BEGIN:VCALENDAR
VERSION:2.0
PRODID:SchoolNow
CALSCALE:GREGORIAN
BEGIN:VEVENT
UID:b564346e-5f64-11ec-96c4-02344199ac6f
DTSTAMP:20211217T181108Z
SUMMARY:Students return from Christmas Break
URL;VALUE=URI:https://www.lpssonline.com/schools/careercenter/calendar/2958
 818/students-return-from-christmas-break
DTSTART:20220104T181100Z
DTEND:20220104T191100Z
END:VEVENT
END:VCALENDAR
