BEGIN:VCALENDAR
VERSION:2.0
PRODID:SchoolNow
CALSCALE:GREGORIAN
BEGIN:VEVENT
UID:be5783be-5f64-11ec-8bf5-02344199ac6f
DTSTAMP:20211217T181123Z
SUMMARY:End of second nine weeks
URL;VALUE=URI:https://www.lpssonline.com/schools/careercenter/calendar/2958
 819/end-of-second-nine-weeks
DTSTART:20220107T181100Z
DTEND:20220107T191100Z
END:VEVENT
END:VCALENDAR
