BEGIN:VCALENDAR
VERSION:2.0
PRODID:SchoolNow
CALSCALE:GREGORIAN
BEGIN:VEVENT
UID:c5979cc2-5f64-11ec-8898-02344199ac6f
DTSTAMP:20211217T181135Z
SUMMARY:Report cards sent home
URL;VALUE=URI:https://www.lpssonline.com/schools/careercenter/calendar/2958
 820/report-cards-sent-home
DTSTART:20220114T181100Z
DTEND:20220114T191100Z
END:VEVENT
END:VCALENDAR
