BEGIN:VCALENDAR
VERSION:2.0
PRODID:SchoolNow
CALSCALE:GREGORIAN
BEGIN:VEVENT
UID:cc618766-5f64-11ec-8239-02344199ac6f
DTSTAMP:20211217T181147Z
SUMMARY:Martin Luther King Jr. Holiday
URL;VALUE=URI:https://www.lpssonline.com/schools/careercenter/calendar/2958
 821/martin-luther-king-jr-holiday
DTSTART:20220117T181100Z
DTEND:20220117T191100Z
END:VEVENT
END:VCALENDAR
